BEGIN:VCALENDAR
VERSION:2.0
PRODID:-//wp-events-plugin.com//7.2.3.1//EN
BEGIN:VEVENT
UID:249@post233.americanlegionelkgrove.com
DTSTART;TZID=America/Los_Angeles:20261128T090000
DTEND;TZID=America/Los_Angeles:20261128T110000
DTSTAMP:20221210T040728Z
URL:https://post233.americanlegionelkgrove.com/events/coffee-talk-for-wome
 n-veterans-2026-11-28/
SUMMARY:Coffee Talk for Women Veterans
DESCRIPTION:
CATEGORIES:Fun Get Together
END:VEVENT
BEGIN:VTIMEZONE
TZID:America/Los_Angeles
X-LIC-LOCATION:America/Los_Angeles
BEGIN:STANDARD
DTSTART:20261101T010000
TZOFFSETFROM:-0700
TZOFFSETTO:-0800
TZNAME:PST
END:STANDARD
END:VTIMEZONE
END:VCALENDAR