BEGIN:VCALENDAR
VERSION:2.0
PRODID:-//wp-events-plugin.com//7.2.3.1//EN
BEGIN:VEVENT
UID:248@post233.americanlegionelkgrove.com
DTSTART;TZID=America/Los_Angeles:20261024T090000
DTEND;TZID=America/Los_Angeles:20261024T110000
DTSTAMP:20221210T040728Z
URL:https://post233.americanlegionelkgrove.com/events/coffee-talk-for-wome
 n-veterans-2026-10-24/
SUMMARY:Coffee Talk for Women Veterans
DESCRIPTION:
CATEGORIES:Fun Get Together
END:VEVENT
BEGIN:VTIMEZONE
TZID:America/Los_Angeles
X-LIC-LOCATION:America/Los_Angeles
BEGIN:DAYLIGHT
DTSTART:20260308T030000
TZOFFSETFROM:-0800
TZOFFSETTO:-0700
TZNAME:PDT
END:DAYLIGHT
END:VTIMEZONE
END:VCALENDAR